BEGIN:VCALENDAR
VERSION:2.0
PRODID:-//Netzwerk Zukunft - ECPv6.15.20//NONSGML v1.0//EN
CALSCALE:GREGORIAN
METHOD:PUBLISH
X-WR-CALNAME:Netzwerk Zukunft
X-ORIGINAL-URL:https://www.netzwerkzukunft.de
X-WR-CALDESC:Veranstaltungen für Netzwerk Zukunft
REFRESH-INTERVAL;VALUE=DURATION:PT1H
X-Robots-Tag:noindex
X-PUBLISHED-TTL:PT1H
BEGIN:VTIMEZONE
TZID:Europe/Berlin
BEGIN:DAYLIGHT
TZOFFSETFROM:+0100
TZOFFSETTO:+0200
TZNAME:CEST
DTSTART:20230326T010000
END:DAYLIGHT
BEGIN:STANDARD
TZOFFSETFROM:+0200
TZOFFSETTO:+0100
TZNAME:CET
DTSTART:20231029T010000
END:STANDARD
BEGIN:DAYLIGHT
TZOFFSETFROM:+0100
TZOFFSETTO:+0200
TZNAME:CEST
DTSTART:20240331T010000
END:DAYLIGHT
BEGIN:STANDARD
TZOFFSETFROM:+0200
TZOFFSETTO:+0100
TZNAME:CET
DTSTART:20241027T010000
END:STANDARD
BEGIN:DAYLIGHT
TZOFFSETFROM:+0100
TZOFFSETTO:+0200
TZNAME:CEST
DTSTART:20250330T010000
END:DAYLIGHT
BEGIN:STANDARD
TZOFFSETFROM:+0200
TZOFFSETTO:+0100
TZNAME:CET
DTSTART:20251026T010000
END:STANDARD
END:VTIMEZONE
BEGIN:VEVENT
DTSTART;TZID=Europe/Berlin:20240516T090000
DTEND;TZID=Europe/Berlin:20240516T120000
DTSTAMP:20260422T011254
CREATED:20231129T131324Z
LAST-MODIFIED:20240516T095819Z
UID:12045-1715850000-1715860800@www.netzwerkzukunft.de
SUMMARY:Berufsorientierungstournee "Ausbildung in OHV - Mach dich schlau!" Station 6
DESCRIPTION:In der Berufsorientierungstournee junior lernt Ihr Berufsfelder\, Ausbildung und Tätigkeiten in verschiedenen Branchen\, Betrieben und Bildungseinrichtungen eurer Region anschaulich kennen. Im Mittelpunkt dieser Berufsorientierungstournee stehen die aktuellen Anforderungen an die verschiedenen Berufe aus betrieblicher Sicht.  \nIhr erhaltet Einblicke in die Ausbildung und die Arbeitsabläufe verschiedener Unternehmen. Alle Stationen sind so angelegt\, dass Gespräche mit den Unternehmern\, Ausbildern und Auszubildenden stattfinden. So könnt Ihr und die Mitarbeiter/-innen der Betriebe und Institutionen Euch gegenseitig kennenlernen. \nStation 6: Steckbrief Oberhavel Holding Besitz- und Verwaltungsgesellschaft mbH \nAnnahofer Str. 1a\, 16515 Oranienburg/OT Germendorf \n\nhier zum Steckbrief\n\nAnmeldung\nBitte trage Dich in das Anmeldeformular unten auf dieser Seite ein! \nDie Teilnahme ist kostenlos. Alle Teilnehmenden erhalten ein Teilnahmezertifikat. \nBitte melde Dich unbedingt ab\, wenn Du den Termin nicht wahrnehmen kannst. \nWenn die Station\, für die Du Dich interessierst\, ausgebucht ist\, schreibe bitte eine Mail an michaela.klothen@netzwerkzukunft.de. Du kommst dann auf die Warteliste. \n 
URL:https://www.netzwerkzukunft.de/veranstaltung/berufsorientierungstournee-ausbildung-in-ohv-mach-dich-schlau-station-6-3/
LOCATION:Oberhavel Holding\, Annahofer Str. 1a\, Oranienburg/OT Germendorf\, 16515
CATEGORIES:Schulen
ATTACH;FMTTYPE=image/jpeg:https://www.netzwerkzukunft.de/wp-content/uploads/2024/03/AdobeStock_494491523_BO-Angebote-BB-scaled.jpeg
END:VEVENT
END:VCALENDAR