BEGIN:VCALENDAR
VERSION:2.0
PRODID:-//Netzwerk Zukunft - ECPv6.15.20//NONSGML v1.0//EN
CALSCALE:GREGORIAN
METHOD:PUBLISH
X-WR-CALNAME:Netzwerk Zukunft
X-ORIGINAL-URL:https://www.netzwerkzukunft.de
X-WR-CALDESC:Veranstaltungen für Netzwerk Zukunft
REFRESH-INTERVAL;VALUE=DURATION:PT1H
X-Robots-Tag:noindex
X-PUBLISHED-TTL:PT1H
BEGIN:VTIMEZONE
TZID:Europe/Berlin
BEGIN:DAYLIGHT
TZOFFSETFROM:+0100
TZOFFSETTO:+0200
TZNAME:CEST
DTSTART:20240331T010000
END:DAYLIGHT
BEGIN:STANDARD
TZOFFSETFROM:+0200
TZOFFSETTO:+0100
TZNAME:CET
DTSTART:20241027T010000
END:STANDARD
BEGIN:DAYLIGHT
TZOFFSETFROM:+0100
TZOFFSETTO:+0200
TZNAME:CEST
DTSTART:20250330T010000
END:DAYLIGHT
BEGIN:STANDARD
TZOFFSETFROM:+0200
TZOFFSETTO:+0100
TZNAME:CET
DTSTART:20251026T010000
END:STANDARD
BEGIN:DAYLIGHT
TZOFFSETFROM:+0100
TZOFFSETTO:+0200
TZNAME:CEST
DTSTART:20260329T010000
END:DAYLIGHT
BEGIN:STANDARD
TZOFFSETFROM:+0200
TZOFFSETTO:+0100
TZNAME:CET
DTSTART:20261025T010000
END:STANDARD
END:VTIMEZONE
BEGIN:VEVENT
DTSTART;TZID=Europe/Berlin:20250318T080000
DTEND;TZID=Europe/Berlin:20250318T100000
DTSTAMP:20260420T134848
CREATED:20240625T071613Z
LAST-MODIFIED:20250304T151520Z
UID:21196-1742284800-1742292000@www.netzwerkzukunft.de
SUMMARY:Berufsorientierungstournee "Barnim-Ausbildende Region" 2024-2025 - Station 9
DESCRIPTION:Matthes GbRLandwirtschaftsunternehmen in BlumbergDas wirtschaftliche Potential einer Region besteht vor allem aus den Menschen. Daher ist es wichtig\, jungen Leuten hier eine berufliche Perspektive zu bieten. Großen Anteil daran haben die ortsansässigen Unternehmen mit ihren Angeboten für Ausbildung und Studium. Durch unsere Berufsorientierungstournee (BOT) im Landkreis Barnim möchten wir erreichen\, dass Lehrer/-innen und Berufsberater/-innen einen detaillierten Einblick in verschiedene Berufsbilder erhalten und diese Informationen an die Schüler/-innen innerhalb von Unterricht oder Beratung weitergeben. So können wir zu einer passenden Berufswahl mit guten Chancen für einen erfolgreichen Abschluss beitragen. Die Berufsorientierungstournee wird organisiert durch den Arbeitskreis SCHULEWIRTSCHAFT Barnim. Kontakt:Andrea Zimmermann Arbeitskreis SCHULEWIRTSCHAFT Barnim andrea.zimmermann@netzwerkzukunft.de Tel.: 0151 24152510 AnmeldungDie Teilnahme ist kostenlos. Alle Teilnehmenden erhalten pro Termin eine individuelle Teilnahmebescheinigung. Die Berufsorientierungstourneen (BOTclassic) sind als Ergänzungsangebot zu einer staatlichen Lehrkräftefortbildung des Landes Brandenburg anerkannt. Bitte melden Sie sich zur Veranstaltung an (siehe unten). Nutzen Sie das Feld “Standard-Reservierung”. Wenn Sie den Termin nicht wahrnehmen können\, melden Sie sich unbedingt wieder ab. Für Rückfragen zur Teilnahme sowie Absagen steht Ihnen Frau Andrea Zimmermann unter den oben genannten Kontaktdaten gern zur Verfügung. Sollten keine Plätze mehr verfügbar sein\, tragen Sie sich bitte in die Warteliste ein. Wir informieren Sie gesondert per Mail\, wenn Ihre Teilnahme aufgrund frei werdender Kapazitäten möglich ist. Wir freuen uns auf Ihre Teilnahme! Weitere Termine der Tournee:								\n					\n				\n		\n					\n		\n				\n							\n						\n				\n					 14. November 2024 \n							\n			\n			\n		\n\n						\n				\n		\n					\n				\n									Autohaus Zemke Bernau DICTATOR Technik Bernau 								\n					\n				\n				\n					\n						\n				\n					 10. Dezember 2024 \n							\n			\n			\n		\n\n						\n				\n		\n					\n				\n									Agentur für Arbeit Eberswalde Märkisch Edel Eberswalde 								\n					\n				\n				\n					\n						\n				\n					 14. Januar 2025 \n							\n			\n			\n		\n\n						\n				\n					\n		\n				\n									GGAB Seniorenheim Bernau Amtsgericht Bernau 								\n				\n					\n				\n					\n						\n				\n					 11. Februar 2025 \n							\n			\n			\n		\n\n						\n				\n		\n					\n				\n									SAG-Schorfheider Agrar GmbH Groß Schönebeck Wildpark Schorfheide Groß Schönebeck 								\n					\n				\n				\n					\n						\n				\n					 18. März 2025 \n							\n			\n			\n		\n\n						\n				\n					\n		\n				\n									ATR Systemgastronomie Bernau
URL:https://www.netzwerkzukunft.de/veranstaltung/berufsorientierungstournee-barnim-ausbildende-region-2024-2025-station-9/
LOCATION:Pro Seniore Residenz am Wukensee\, Uhlandstraße 18/19\, Biesenthal\, Brandenburg\, 16359\, Germany
CATEGORIES:Berufsorientierungstour,Schulen,Unternehmen
ATTACH;FMTTYPE=image/png:https://www.netzwerkzukunft.de/wp-content/uploads/2024/07/BOTclassic_Titelbild_2024.png
ORGANIZER;CN="Netzwerk Zukunft. Schule und Wirtschaft f%C3%BCr Brandenburg e. V.":MAILTO:info@netzwerkzukunft.de
END:VEVENT
END:VCALENDAR