BEGIN:VCALENDAR
VERSION:2.0
PRODID:-//Netzwerk Zukunft - ECPv6.15.20//NONSGML v1.0//EN
CALSCALE:GREGORIAN
METHOD:PUBLISH
X-WR-CALNAME:Netzwerk Zukunft
X-ORIGINAL-URL:https://www.netzwerkzukunft.de
X-WR-CALDESC:Veranstaltungen für Netzwerk Zukunft
REFRESH-INTERVAL;VALUE=DURATION:PT1H
X-Robots-Tag:noindex
X-PUBLISHED-TTL:PT1H
BEGIN:VTIMEZONE
TZID:Europe/Berlin
BEGIN:DAYLIGHT
TZOFFSETFROM:+0100
TZOFFSETTO:+0200
TZNAME:CEST
DTSTART:20250330T010000
END:DAYLIGHT
BEGIN:STANDARD
TZOFFSETFROM:+0200
TZOFFSETTO:+0100
TZNAME:CET
DTSTART:20251026T010000
END:STANDARD
BEGIN:DAYLIGHT
TZOFFSETFROM:+0100
TZOFFSETTO:+0200
TZNAME:CEST
DTSTART:20260329T010000
END:DAYLIGHT
BEGIN:STANDARD
TZOFFSETFROM:+0200
TZOFFSETTO:+0100
TZNAME:CET
DTSTART:20261025T010000
END:STANDARD
BEGIN:DAYLIGHT
TZOFFSETFROM:+0100
TZOFFSETTO:+0200
TZNAME:CEST
DTSTART:20270328T010000
END:DAYLIGHT
BEGIN:STANDARD
TZOFFSETFROM:+0200
TZOFFSETTO:+0100
TZNAME:CET
DTSTART:20271031T010000
END:STANDARD
END:VTIMEZONE
BEGIN:VEVENT
DTSTART;TZID=Europe/Berlin:20260416T130000
DTEND;TZID=Europe/Berlin:20260416T150000
DTSTAMP:20260422T061215
CREATED:20250715T124033Z
LAST-MODIFIED:20260414T094124Z
UID:28255-1776344400-1776351600@www.netzwerkzukunft.de
SUMMARY:Berufsorientierungstournee Barnim - Station 10 - Pro Seniore Residenz
DESCRIPTION:Pro Seniore Residenz am Wukensee BiesenthalSie begleiten junge Menschen bei ihrer Berufswahl – wir möchten Sie dabei unterstützen.Bei der Berufsorientierungstournee (BOT) im Landkreis Barnim laden wir Sie ein\, regionale Unternehmen kennenzulernen und Einblicke in Ausbildungs- und Studienmöglichkeiten vor Ort zu gewinnen. Dieses Wissen können Sie direkt in Ihre Beratung oder Ihren Unterricht einfließen lassen – und so Jugendlichen helfen\, berufliche Perspektiven in ihrer Heimat zu entdecken. Die Berufsorientierungstournee wird organisiert durch den Arbeitskreis SCHULEWIRTSCHAFT Barnim. Zum Steckbrief der Einrichtung Kontakt:Paul Serr veranstaltung@netzwerkzukunft.de Veranstaltungsmanagement Tel.: 0331 2011 679 AnmeldungDie Teilnahme ist kostenlos. Alle Teilnehmenden erhalten pro Termin eine individuelle Teilnahmebescheinigung. Die Berufsorientierungstourneen (BOTclassic) sind als Ergänzungsangebot zu einer staatlichen Lehrkräftefortbildung des Landes Brandenburg anerkannt. Bitte melden Sie sich zur Veranstaltung an (siehe unten). Nutzen Sie das Feld “Standard-Reservierung”. Wenn Sie den Termin nicht wahrnehmen können\, melden Sie sich unbedingt wieder ab. Für Rückfragen zur Teilnahme sowie Absagen steht Ihnen Frau Andrea Zimmermann unter den oben genannten Kontaktdaten gern zur Verfügung. Sollten keine Plätze mehr verfügbar sein\, tragen Sie sich bitte in die Warteliste ein. Wir informieren Sie gesondert per Mail\, wenn Ihre Teilnahme aufgrund frei werdender Kapazitäten möglich ist. Wir freuen uns auf Ihre Teilnahme! Weitere Termine der Tournee:								\n					\n				\n		\n					\n				\n							\n						\n				\n					 26. November 2025 \n							\n			\n			\n		\n\n						\n				\n		\n					\n				\n									BERGER BAU SE  Bindfadenhaus en gros Gustav Scharnau GmbH  								\n					\n				\n				\n					\n						\n				\n					 11. Dezember 2025 \n							\n			\n			\n		\n\n						\n				\n		\n					\n				\n									Medworx GmbH  Sand + Kies Union GmbH  								\n					\n				\n				\n					\n						\n				\n					 13. Januar 2026 \n							\n			\n			\n		\n\n						\n				\n		\n					\n				\n									Timpla GmbH  Technische Werke Eberswalde GmbH  								\n					\n				\n				\n					\n						\n				\n					 10. März 2026 \n							\n			\n			\n		\n\n						\n				\n					\n		\n				\n									Landkreis Barnim\, Öffentlicher Dienst  Kreiswerke Barnim GmbH  								\n				\n					\n				\n					\n						\n				\n					 16. April 2026 \n							\n			\n			\n		\n\n						\n				\n					\n		\n				\n									Stadtwerke Bernau 
URL:https://www.netzwerkzukunft.de/veranstaltung/berufsorientierungstournee-barnim-ausbildende-region-2025-2026-station-10/
LOCATION:Pro Seniore Residenz am Wukensee\, Uhlandstraße 18/19\, Biesenthal\, Brandenburg\, 16359\, Germany
CATEGORIES:Berufsorientierungstour,Schulen,Unternehmen
ATTACH;FMTTYPE=image/jpeg:https://www.netzwerkzukunft.de/wp-content/uploads/2025/07/AdobeStock_667513536.jpeg
ORGANIZER;CN="Netzwerk Zukunft. Schule und Wirtschaft f%C3%BCr Brandenburg e. V.":MAILTO:info@netzwerkzukunft.de
END:VEVENT
END:VCALENDAR