BEGIN:VCALENDAR
VERSION:2.0
PRODID:-//Netzwerk Zukunft - ECPv6.15.20//NONSGML v1.0//EN
CALSCALE:GREGORIAN
METHOD:PUBLISH
X-WR-CALNAME:Netzwerk Zukunft
X-ORIGINAL-URL:https://www.netzwerkzukunft.de
X-WR-CALDESC:Veranstaltungen für Netzwerk Zukunft
REFRESH-INTERVAL;VALUE=DURATION:PT1H
X-Robots-Tag:noindex
X-PUBLISHED-TTL:PT1H
BEGIN:VTIMEZONE
TZID:Europe/Berlin
BEGIN:DAYLIGHT
TZOFFSETFROM:+0100
TZOFFSETTO:+0200
TZNAME:CEST
DTSTART:20230326T010000
END:DAYLIGHT
BEGIN:STANDARD
TZOFFSETFROM:+0200
TZOFFSETTO:+0100
TZNAME:CET
DTSTART:20231029T010000
END:STANDARD
BEGIN:DAYLIGHT
TZOFFSETFROM:+0100
TZOFFSETTO:+0200
TZNAME:CEST
DTSTART:20240331T010000
END:DAYLIGHT
BEGIN:STANDARD
TZOFFSETFROM:+0200
TZOFFSETTO:+0100
TZNAME:CET
DTSTART:20241027T010000
END:STANDARD
BEGIN:DAYLIGHT
TZOFFSETFROM:+0100
TZOFFSETTO:+0200
TZNAME:CEST
DTSTART:20250330T010000
END:DAYLIGHT
BEGIN:STANDARD
TZOFFSETFROM:+0200
TZOFFSETTO:+0100
TZNAME:CET
DTSTART:20251026T010000
END:STANDARD
END:VTIMEZONE
BEGIN:VEVENT
DTSTART;TZID=Europe/Berlin:20240916T130000
DTEND;TZID=Europe/Berlin:20240916T163000
DTSTAMP:20260422T032745
CREATED:20240708T142319Z
LAST-MODIFIED:20240830T110453Z
UID:21352-1726491600-1726504200@www.netzwerkzukunft.de
SUMMARY:Auftakt Berufsorientierungstournee Frankfurt (Oder)\, Eisenhüttenstadt und Märkisch Oderland (Station 1)
DESCRIPTION:BOTclassic “Unsere Region – deine Zukunft”Handwerkskammer Frankfurt (Oder) Das wirtschaftliche Potential einer Region besteht vor allem aus den Menschen. Daher ist es wichtig\, jungen Leuten hier eine berufliche Perspektive zu bieten. Großen Anteil daran haben die ortsansässigen Unternehmen mit ihren Angeboten für Ausbildung und Studium. Durch unsere Berufsorientierungstournee (BOT) in den Landkreisen Oder Spree\, Märkisch Oderland und in der Stadt Frankfurt/O erreichen wir\, dass Lehrer/-innen und Berufsberater/-innen einen detaillierten Einblick in verschiedene Berufsbilder erhalten und diese Informationen an die Schülerinnen und Schüler innerhalb von Unterricht oder Beratung weitergeben können. Mit dieser Unterstützung kann einer passenden Berufswahl mit guten Chancen für einen erfolgreichen Abschluss beigetragen werden AnmeldungDie Teilnahme ist kostenlos. Alle Teilnehmenden erhalten pro Termin eine individuelle Teilnahmebescheinigung. Die Berufsorientierungstourneen (BOTclassic) sind als Ersatzangebote einer staatlichen Lehrkräftefortbildung des Landes Brandenburg anerkannt. Bitte melden Sie sich zur Veranstaltung an (siehe unten). Nutzen Sie das Feld “Standard-Reservierung”. Wenn Sie den Termin unerwartet nicht wahrnehmen können\, melden Sie sich bitte unbedingt wieder ab. Für Rückfragen zur Teilnahme sowie für Absagen steht Ihnen Herr Uwe Buscha zu den unten angegebenen Kontaktmöglichkeiten gern zur Verfügung. Sollten keine Plätze mehr verfügbar sein\, tragen Sie sich bitte in die “Warteliste” ein. Wir informieren Sie gesondert per E-Mail\, wenn Ihre Teilnahme aufgrund frei werdender Kapazitäten möglich ist. Kontakt:Uwe Buscha uwe.buscha@netzwerkzukunft.deTel. 0331 2011-679  Wir freuen uns auf Ihre Teilnahme! Weitere Termine der BOTclassic finden Sie hier.
URL:https://www.netzwerkzukunft.de/veranstaltung/berufsorientierungstournee-ffo-eh-mol-24-25-station1/
LOCATION:Bildungszentrum der Handwerkskammer Frankfurt (Oder)\, Spiekerstraße 1\, Frankfurt (Oder)\, Brandenburg\, 15230\, Deutschland
CATEGORIES:Berufsorientierungstour,Schulen,Unternehmen
ATTACH;FMTTYPE=image/jpeg:https://www.netzwerkzukunft.de/wp-content/uploads/2024/08/BOTclassic_Bild_Blogbeitrag-1.jpg
ORGANIZER;CN="Netzwerk Zukunft. Schule und Wirtschaft f%C3%BCr Brandenburg e. V.":MAILTO:info@netzwerkzukunft.de
END:VEVENT
END:VCALENDAR