BEGIN:VCALENDAR
VERSION:2.0
PRODID:-//Netzwerk Zukunft - ECPv6.15.20//NONSGML v1.0//EN
CALSCALE:GREGORIAN
METHOD:PUBLISH
X-WR-CALNAME:Netzwerk Zukunft
X-ORIGINAL-URL:https://www.netzwerkzukunft.de
X-WR-CALDESC:Veranstaltungen für Netzwerk Zukunft
REFRESH-INTERVAL;VALUE=DURATION:PT1H
X-Robots-Tag:noindex
X-PUBLISHED-TTL:PT1H
BEGIN:VTIMEZONE
TZID:Europe/Berlin
BEGIN:DAYLIGHT
TZOFFSETFROM:+0100
TZOFFSETTO:+0200
TZNAME:CEST
DTSTART:20230326T010000
END:DAYLIGHT
BEGIN:STANDARD
TZOFFSETFROM:+0200
TZOFFSETTO:+0100
TZNAME:CET
DTSTART:20231029T010000
END:STANDARD
BEGIN:DAYLIGHT
TZOFFSETFROM:+0100
TZOFFSETTO:+0200
TZNAME:CEST
DTSTART:20240331T010000
END:DAYLIGHT
BEGIN:STANDARD
TZOFFSETFROM:+0200
TZOFFSETTO:+0100
TZNAME:CET
DTSTART:20241027T010000
END:STANDARD
BEGIN:DAYLIGHT
TZOFFSETFROM:+0100
TZOFFSETTO:+0200
TZNAME:CEST
DTSTART:20250330T010000
END:DAYLIGHT
BEGIN:STANDARD
TZOFFSETFROM:+0200
TZOFFSETTO:+0100
TZNAME:CET
DTSTART:20251026T010000
END:STANDARD
END:VTIMEZONE
BEGIN:VEVENT
DTSTART;TZID=Europe/Berlin:20241118T130000
DTEND;TZID=Europe/Berlin:20241118T160000
DTSTAMP:20260422T103754
CREATED:20240830T091657Z
LAST-MODIFIED:20240916T134031Z
UID:22758-1731934800-1731945600@www.netzwerkzukunft.de
SUMMARY:Berufsorientierungstournee Frankfurt (Oder)\, Eisenhüttenstadt und Märkisch Oderland Station 3
DESCRIPTION:BOTclassic “Unsere Region – deine Zukunft”Coolback Hoppergarten GmbH Das wirtschaftliche Potential einer Region besteht vor allem aus den Menschen. Daher ist es wichtig\, jungen Leuten hier eine berufliche Perspektive zu bieten. Großen Anteil daran haben die ortsansässigen Unternehmen mit ihren Angeboten für Ausbildung und Studium. Durch unsere Berufsorientierungstournee (BOT) in den Landkreisen Oder Spree\, Märkisch Oderland und in der Stadt Frankfurt/O erreichen wir\, dass Lehrer/-innen und Berufsberater/-innen einen detaillierten Einblick in verschiedene Berufsbilder erhalten und diese Informationen an die Schülerinnen und Schüler innerhalb von Unterricht oder Beratung weitergeben können. Mit dieser Unterstützung kann zu einer passenden Berufswahl mit guten Chancen für einen erfolgreichen Abschluss beigetragen werden.   AnmeldungDie Teilnahme ist kostenlos. Alle Teilnehmenden erhalten pro Termin eine individuelle Teilnahmebescheinigung. Die Berufsorientierungstourneen (BOTclassic) sind als Ersatzangebote einer staatlichen Lehrkräftefortbildung des Landes Brandenburg anerkannt. Bitte melden Sie sich zur Veranstaltung an (siehe unten). Nutzen Sie das Feld “Standard-Reservierung”. Sollten keine Plätze mehr verfügbar sein\, tragen Sie sich bitte in die “Warteliste” ein. Wir informieren Sie gesondert per E-Mail\, wenn Ihre Teilnahme aufgrund frei werdender Kapazitäten möglich ist. Für Rückfragen zur Teilnahme sowie für Absagen steht Ihnen Herr Uwe Buscha unter den unten aufgeführten Kontaktmöglichkeiten gern zur Verfügung.   Kontakt:Uwe Buscha uwe.buscha@netzwerkzukunft.de Tel. 0331 2011-679   Wir freuen uns auf Ihre Teilnahme! Weitere Termine der BOTclassic finden Sie hier.
URL:https://www.netzwerkzukunft.de/veranstaltung/berufsorientierungstournee-ffo-eh-mol-24-25-station3/
LOCATION:Coolbak Hoppergarten GmbH\, Alter Feldweg 18\, Hoppegarten\, 15366
CATEGORIES:Berufsorientierungstour,Schulen,Unternehmen
ATTACH;FMTTYPE=image/jpeg:https://www.netzwerkzukunft.de/wp-content/uploads/2024/08/BOTclassic_Bild_Blogbeitrag-1.jpg
ORGANIZER;CN="Netzwerk Zukunft. Schule und Wirtschaft f%C3%BCr Brandenburg e. V.":MAILTO:info@netzwerkzukunft.de
END:VEVENT
END:VCALENDAR