BEGIN:VCALENDAR
VERSION:2.0
PRODID:-//Netzwerk Zukunft - ECPv6.15.20//NONSGML v1.0//EN
CALSCALE:GREGORIAN
METHOD:PUBLISH
X-WR-CALNAME:Netzwerk Zukunft
X-ORIGINAL-URL:https://www.netzwerkzukunft.de
X-WR-CALDESC:Veranstaltungen für Netzwerk Zukunft
REFRESH-INTERVAL;VALUE=DURATION:PT1H
X-Robots-Tag:noindex
X-PUBLISHED-TTL:PT1H
BEGIN:VTIMEZONE
TZID:Europe/Berlin
BEGIN:DAYLIGHT
TZOFFSETFROM:+0100
TZOFFSETTO:+0200
TZNAME:CEST
DTSTART:20240331T010000
END:DAYLIGHT
BEGIN:STANDARD
TZOFFSETFROM:+0200
TZOFFSETTO:+0100
TZNAME:CET
DTSTART:20241027T010000
END:STANDARD
BEGIN:DAYLIGHT
TZOFFSETFROM:+0100
TZOFFSETTO:+0200
TZNAME:CEST
DTSTART:20250330T010000
END:DAYLIGHT
BEGIN:STANDARD
TZOFFSETFROM:+0200
TZOFFSETTO:+0100
TZNAME:CET
DTSTART:20251026T010000
END:STANDARD
BEGIN:DAYLIGHT
TZOFFSETFROM:+0100
TZOFFSETTO:+0200
TZNAME:CEST
DTSTART:20260329T010000
END:DAYLIGHT
BEGIN:STANDARD
TZOFFSETFROM:+0200
TZOFFSETTO:+0100
TZNAME:CET
DTSTART:20261025T010000
END:STANDARD
END:VTIMEZONE
BEGIN:VEVENT
DTSTART;TZID=Europe/Berlin:20251111T103000
DTEND;TZID=Europe/Berlin:20251111T120000
DTSTAMP:20260422T040222
CREATED:20250723T080617Z
LAST-MODIFIED:20250909T144302Z
UID:28401-1762857000-1762862400@www.netzwerkzukunft.de
SUMMARY:Berufsorientierungstournee "Hinter den Kulissen Uckermärkischer Unternehmen" 2025-2026 - Station 1
DESCRIPTION:Uckermärkischer Bildungsverbund (UBV) gGmbHSie begleiten junge Menschen bei ihrer Berufswahl – wir möchten Sie dabei unterstützen.Bei der Berufsorientierungstournee (BOT) im Landkreis Uckermark laden wir Sie ein\, regionale Unternehmen kennenzulernen und Einblicke in Ausbildungs- und Studienmöglichkeiten vor Ort zu gewinnen. Dieses Wissen können Sie direkt in Ihre Beratung oder Ihren Unterricht einfließen lassen – und so Jugendlichen helfen\, berufliche Perspektiven in ihrer Heimat zu entdecken. Die Berufsorientierungstournee wird organisiert durch den Arbeitskreis SCHULEWIRTSCHAFT Berufsfrühorientierung Uckermark. Zum Steckbrief der Einrichtung Kontakt:Andrea Zimmermann Regionalkoordinatorin für die Landkreise Barnim und Uckermark andrea.zimmermann@netzwerkzukunft.de Tel.: 0151 24152510 AnmeldungDie Teilnahme ist kostenlos. Alle Teilnehmenden erhalten pro Termin eine individuelle Teilnahmebescheinigung. Die Berufsorientierungstourneen (BOTclassic) sind als Ergänzungsangebot zu einer staatlichen Lehrkräftefortbildung des Landes Brandenburg anerkannt. Bitte melden Sie sich zur Veranstaltung an (siehe unten). Nutzen Sie das Feld “Standard-Reservierung”. Wenn Sie den Termin nicht wahrnehmen können\, melden Sie sich unbedingt wieder ab. Für Rückfragen zur Teilnahme sowie Absagen steht Ihnen Frau Andrea Zimmermann unter den oben genannten Kontaktdaten gern zur Verfügung. Sollten keine Plätze mehr verfügbar sein\, tragen Sie sich bitte in die Warteliste ein. Wir informieren Sie gesondert per Mail\, wenn Ihre Teilnahme aufgrund frei werdender Kapazitäten möglich ist. Wir freuen uns auf Ihre Teilnahme! Weitere Termine der Tournee:								\n					\n				\n		\n					\n		\n				\n							\n						\n				\n					 11. November 2025 \n							\n			\n			\n		\n\n						\n				\n		\n					\n				\n									Grüner Flor GmbH 								\n					\n				\n				\n					\n						\n				\n					 2. Dezember 2025 \n							\n			\n			\n		\n\n						\n				\n		\n					\n				\n									Mobilerbootsbau Jakob Kraus Kiefern Bohm GmbH & Co. KG 								\n					\n				\n				\n					\n						\n				\n					 26. Februar 2026 \n							\n			\n			\n		\n\n						\n				\n		\n					\n				\n									Tierpark Angermünde Druckerei Nauendorf GmbH 								\n					\n				\n				\n					\n						\n				\n					 17. März 2026 \n							\n			\n			\n		\n\n						\n				\n					\n		\n				\n									Agrargenossenschaft Uckermark agrar eG Göritz Uckermärkische Rettungsdienstgesellschaft mbH
URL:https://www.netzwerkzukunft.de/veranstaltung/berufsorientierungstournee-hinter-den-kulissen-uckermaerkischer-unternehmen-2025-2026-station-1/
LOCATION:Uckermärkischer Bildungsverbund (UBV) gGmbH\, Kunower Straße 3\, Schwedt\, Brandenburg\, 16303\, Germany
CATEGORIES:Berufsorientierungstour,Schulen,Unternehmen
ATTACH;FMTTYPE=image/png:https://www.netzwerkzukunft.de/wp-content/uploads/2024/07/BOTclassic_Titelbild_2024.png
ORGANIZER;CN="Netzwerk Zukunft. Schule und Wirtschaft f%C3%BCr Brandenburg e. V.":MAILTO:info@netzwerkzukunft.de
END:VEVENT
END:VCALENDAR