BEGIN:VCALENDAR
VERSION:2.0
PRODID:-//Netzwerk Zukunft - ECPv6.15.20//NONSGML v1.0//EN
CALSCALE:GREGORIAN
METHOD:PUBLISH
X-WR-CALNAME:Netzwerk Zukunft
X-ORIGINAL-URL:https://www.netzwerkzukunft.de
X-WR-CALDESC:Veranstaltungen für Netzwerk Zukunft
REFRESH-INTERVAL;VALUE=DURATION:PT1H
X-Robots-Tag:noindex
X-PUBLISHED-TTL:PT1H
BEGIN:VTIMEZONE
TZID:Europe/Berlin
BEGIN:DAYLIGHT
TZOFFSETFROM:+0100
TZOFFSETTO:+0200
TZNAME:CEST
DTSTART:20250330T010000
END:DAYLIGHT
BEGIN:STANDARD
TZOFFSETFROM:+0200
TZOFFSETTO:+0100
TZNAME:CET
DTSTART:20251026T010000
END:STANDARD
BEGIN:DAYLIGHT
TZOFFSETFROM:+0100
TZOFFSETTO:+0200
TZNAME:CEST
DTSTART:20260329T010000
END:DAYLIGHT
BEGIN:STANDARD
TZOFFSETFROM:+0200
TZOFFSETTO:+0100
TZNAME:CET
DTSTART:20261025T010000
END:STANDARD
BEGIN:DAYLIGHT
TZOFFSETFROM:+0100
TZOFFSETTO:+0200
TZNAME:CEST
DTSTART:20270328T010000
END:DAYLIGHT
BEGIN:STANDARD
TZOFFSETFROM:+0200
TZOFFSETTO:+0100
TZNAME:CET
DTSTART:20271031T010000
END:STANDARD
END:VTIMEZONE
BEGIN:VEVENT
DTSTART;TZID=Europe/Berlin:20260219T180000
DTEND;TZID=Europe/Berlin:20260219T193000
DTSTAMP:20260421T105938
CREATED:20251110T133707Z
LAST-MODIFIED:20260113T151819Z
UID:30712-1771524000-1771529400@www.netzwerkzukunft.de
SUMMARY:elternpower talk: "Abitur und wie weiter?"
DESCRIPTION:Ihr Kind geht in Potsdam\, Brandenburg an der Havel\, Potsdam-Mittelmark\, Teltow-Fläming\, Havelland\, Oberhavel\, Prignitz oder Ostprignitz-Ruppin zur Schule? Wir laden Sie gemeinsam mit unseren Partnern\, der Agentur für Arbeit\, der Industrie- und Handelskammer Potsdam sowie der Handwerkskammer Potsdam zu unserem kostenfreien\, digitalen elternpower talk ein – einem Infoabend speziell für Sie als Eltern oder Erziehungsberechtigte.  Hier erfahren Eltern als Berufswahlbegleiter ihrer Kinder\, welche beruflichen Perspektiven nach dem Schulabschluss bestehen und welche Anforderungen mit diesen einhergehen. Unsere Regionalpartner geben Ihnen hilfreiche Informationen zu Themen wie: Individueller Berufswahlprozess – wie\, wo und wann?Erfolgreiche Suche nach einem PraktikumsplatzWege nach dem Abitur – Anschlussmöglichkeiten im Land BrandenburgKarriere mit Ausbildung  Sie wollen dabei sein? Füllen Sie das untenstehende Anmeldeformular aus. Sie erhalten direkt eine Anmeldebestätigung und kurz vor der Veranstaltung den Einwahl-Link (Microsoft teams) per E-Mail. Sie können sich am Veranstaltungsabend ganz entspannt über Ihren Browser oder Ihr Mobiltelefon einwählen. Für Fragen rund um die Anmeldung steht Ihnen Paul Serr unter elternpower@netzwerkzukunft.de sowie unter der  0331-2011-679 gern zur Verfügung.  
URL:https://www.netzwerkzukunft.de/veranstaltung/digitaler-elternabend-abitur-und-wie-weiter-west-und-nordwestbrandenburg-190226/
LOCATION:online
CATEGORIES:Eltern
ATTACH;FMTTYPE=image/jpeg:https://www.netzwerkzukunft.de/wp-content/uploads/2025/05/elternpower-2.jpg
ORGANIZER;CN="Netzwerk Zukunft. Schule und Wirtschaft f%C3%BCr Brandenburg e. V.":MAILTO:info@netzwerkzukunft.de
END:VEVENT
END:VCALENDAR