BEGIN:VCALENDAR
VERSION:2.0
PRODID:-//Netzwerk Zukunft - ECPv6.15.20//NONSGML v1.0//EN
CALSCALE:GREGORIAN
METHOD:PUBLISH
X-WR-CALNAME:Netzwerk Zukunft
X-ORIGINAL-URL:https://www.netzwerkzukunft.de
X-WR-CALDESC:Veranstaltungen für Netzwerk Zukunft
REFRESH-INTERVAL;VALUE=DURATION:PT1H
X-Robots-Tag:noindex
X-PUBLISHED-TTL:PT1H
BEGIN:VTIMEZONE
TZID:Europe/Berlin
BEGIN:DAYLIGHT
TZOFFSETFROM:+0100
TZOFFSETTO:+0200
TZNAME:CEST
DTSTART:20240331T010000
END:DAYLIGHT
BEGIN:STANDARD
TZOFFSETFROM:+0200
TZOFFSETTO:+0100
TZNAME:CET
DTSTART:20241027T010000
END:STANDARD
BEGIN:DAYLIGHT
TZOFFSETFROM:+0100
TZOFFSETTO:+0200
TZNAME:CEST
DTSTART:20250330T010000
END:DAYLIGHT
BEGIN:STANDARD
TZOFFSETFROM:+0200
TZOFFSETTO:+0100
TZNAME:CET
DTSTART:20251026T010000
END:STANDARD
BEGIN:DAYLIGHT
TZOFFSETFROM:+0100
TZOFFSETTO:+0200
TZNAME:CEST
DTSTART:20260329T010000
END:DAYLIGHT
BEGIN:STANDARD
TZOFFSETFROM:+0200
TZOFFSETTO:+0100
TZNAME:CET
DTSTART:20261025T010000
END:STANDARD
END:VTIMEZONE
BEGIN:VEVENT
DTSTART;TZID=Europe/Berlin:20250123T130000
DTEND;TZID=Europe/Berlin:20250123T160000
DTSTAMP:20260422T111721
CREATED:20231013T085322Z
LAST-MODIFIED:20250127T101537Z
UID:11690-1737637200-1737648000@www.netzwerkzukunft.de
SUMMARY:ExBO-Fortbildungsreihe - Modul 5: Kooperationen mit außerschulischen Partnern Tag 1
DESCRIPTION:Wie finde ich Kooperationspartner und wie gestalte ich eine gemeinsame langfristige Zusammenarbeit? Hierzu stellen wir Ihnen u.a. einen Werkzeugkoffer für die Gewinnung externer Kooperationspartner\, die Gestaltung der Zusammenarbeit und die Pflege von Netzwerken bereit. Die Veranstaltung besteht aus zwei Veranstaltungstagen. Die von uns bereitgestellten Materialien unterstützen Sie dabei\, Ihre Zusammenarbeit mit externen Partnern weiterzuentwickeln. Wir stehen Ihnen gern beratend zur Seite. TermineKick-off (Tag 1) 23.01.2025\, 13:00-16:00 Uhr – Digitale Veranstaltung Abschluss (Tag 2)11.03.2025\, 10:00-14:00 Uhr – Präsenz-Veranstaltung im Haus des Handwerks\, Charlottenstraße 34-36\, 14467 Potsdam Anmeldeschluss19.01.2025 Hinweis zu Ihrer persönlichen LernumgebungSie benötigen einen PC oder Laptop (einschließlich stabiler Internetverbindung und PDF-Reader)\, Webcam und Kopfhörer mit integriertem Mikrofon/Headset. ZielgruppeSchulleitungen und Lehrkräfte aller Fächer\, BO-Koordinatoren/Koordinatorinnen Sie haben Fragen? Rufen Sie uns an oder mailen Sie uns.Andrea Zimmermann I Referentin Lehrkräftefortbildung E-Mail: andrea.zimmermann@netzwerkzukunft.de I Tel.: +49151 24152510
URL:https://www.netzwerkzukunft.de/veranstaltung/exbo-kooperation-mit-ausserschulischen-partnern-modul5_2025/
LOCATION:digital/Potsdam\, Breite Straße 2d\, Potsdam\, 14467
CATEGORIES:Schulen
ATTACH;FMTTYPE=image/jpeg:https://www.netzwerkzukunft.de/wp-content/uploads/2023/10/ExBO_Modul-5_Kooperationen.jpeg
ORGANIZER;CN="Netzwerk Zukunft. Schule und Wirtschaft f%C3%BCr Brandenburg e. V.":MAILTO:info@netzwerkzukunft.de
END:VEVENT
END:VCALENDAR