BEGIN:VCALENDAR
VERSION:2.0
PRODID:-//Netzwerk Zukunft - ECPv6.15.20//NONSGML v1.0//EN
CALSCALE:GREGORIAN
METHOD:PUBLISH
X-WR-CALNAME:Netzwerk Zukunft
X-ORIGINAL-URL:https://www.netzwerkzukunft.de
X-WR-CALDESC:Veranstaltungen für Netzwerk Zukunft
REFRESH-INTERVAL;VALUE=DURATION:PT1H
X-Robots-Tag:noindex
X-PUBLISHED-TTL:PT1H
BEGIN:VTIMEZONE
TZID:Europe/Berlin
BEGIN:DAYLIGHT
TZOFFSETFROM:+0100
TZOFFSETTO:+0200
TZNAME:CEST
DTSTART:20240331T010000
END:DAYLIGHT
BEGIN:STANDARD
TZOFFSETFROM:+0200
TZOFFSETTO:+0100
TZNAME:CET
DTSTART:20241027T010000
END:STANDARD
BEGIN:DAYLIGHT
TZOFFSETFROM:+0100
TZOFFSETTO:+0200
TZNAME:CEST
DTSTART:20250330T010000
END:DAYLIGHT
BEGIN:STANDARD
TZOFFSETFROM:+0200
TZOFFSETTO:+0100
TZNAME:CET
DTSTART:20251026T010000
END:STANDARD
BEGIN:DAYLIGHT
TZOFFSETFROM:+0100
TZOFFSETTO:+0200
TZNAME:CEST
DTSTART:20260329T010000
END:DAYLIGHT
BEGIN:STANDARD
TZOFFSETFROM:+0200
TZOFFSETTO:+0100
TZNAME:CET
DTSTART:20261025T010000
END:STANDARD
END:VTIMEZONE
BEGIN:VEVENT
DTSTART;TZID=Europe/Berlin:20250402T130000
DTEND;TZID=Europe/Berlin:20250402T163000
DTSTAMP:20260424T123358
CREATED:20231013T090047Z
LAST-MODIFIED:20250326T073112Z
UID:11696-1743598800-1743611400@www.netzwerkzukunft.de
SUMMARY:ExBO-Fortbildungsreihe - Modul 6: Qualitätssicherung und -entwicklung Tag 1
DESCRIPTION:Wie gut ist Ihre Berufliche Orientierung? Lernen Sie verschiedene Möglichkeiten zur Evaluierung an Ihrer Schule kennen und erfahren Sie\, wie Ihr Qualitätsmanagement effizient geplant und effektiv gesteuert werden kann. Die Veranstaltung besteht aus zwei Veranstaltungstagen\, für die Sie sich unabhängig voneinander anmelden können. TermineKick-off (Tag 1)  02.04.2025\, 13:00-16:30 Uhr – digitale Veranstaltung Anmeldeschluss27.03.2025 Melden Sie sich gern auch für Tag 2 der Fortbildung an. Abschluss (Tag 2) 19.06.2025\, 13:00-16:00 Uhr – digitale Veranstaltung Anmeldeschluss:15.06.2025 Hinweis zu Ihrer persönlichen LernumgebungSie benötigen einen PC oder Laptop (einschließlich stabiler Internetverbindung und PDF-Reader)\, Webcam und Kopfhörer mit integriertem Mikrofon/Headset. ZielgruppeSchulleitungen und Lehrkräfte aller Fächer\, BO-Koordinatoren/Koordinatorinnen. Die Teilnahme ist kostenlos. Alle Teilnehmenden erhalten pro Termin eine individuelle Teilnahmebescheinigung. Die ExBO ist als Ergänzungsangebot zu einer staatlichen Lehrkräftefortbildung des Landes Brandenburg anerkannt. Sie haben Fragen? Rufen Sie uns an oder mailen Sie uns.Andrea Zimmermann I Wissenschaftliche Mitarbeiterin Lehrkräftefortbildung E-Mail: andrea.zimmermann@netzwerkzukunft.de I Tel.: +49151 24152 								\n					\n				\n		\n					\n				\n					Gib hier deine Überschrift ein
URL:https://www.netzwerkzukunft.de/veranstaltung/exbo-qualitaetssicherung_und_-entwicklung-modul6_2025/
LOCATION:digital
CATEGORIES:Schulen
ATTACH;FMTTYPE=image/jpeg:https://www.netzwerkzukunft.de/wp-content/uploads/2023/10/ExBO_Modul-6_Qualitaetssicherung.jpeg
ORGANIZER;CN="Netzwerk Zukunft. Schule und Wirtschaft f%C3%BCr Brandenburg e. V.":MAILTO:info@netzwerkzukunft.de
END:VEVENT
END:VCALENDAR