BEGIN:VCALENDAR
VERSION:2.0
PRODID:-//Netzwerk Zukunft - ECPv6.15.20//NONSGML v1.0//EN
CALSCALE:GREGORIAN
METHOD:PUBLISH
X-WR-CALNAME:Netzwerk Zukunft
X-ORIGINAL-URL:https://www.netzwerkzukunft.de
X-WR-CALDESC:Veranstaltungen für Netzwerk Zukunft
REFRESH-INTERVAL;VALUE=DURATION:PT1H
X-Robots-Tag:noindex
X-PUBLISHED-TTL:PT1H
BEGIN:VTIMEZONE
TZID:Europe/Berlin
BEGIN:DAYLIGHT
TZOFFSETFROM:+0100
TZOFFSETTO:+0200
TZNAME:CEST
DTSTART:20240331T010000
END:DAYLIGHT
BEGIN:STANDARD
TZOFFSETFROM:+0200
TZOFFSETTO:+0100
TZNAME:CET
DTSTART:20241027T010000
END:STANDARD
BEGIN:DAYLIGHT
TZOFFSETFROM:+0100
TZOFFSETTO:+0200
TZNAME:CEST
DTSTART:20250330T010000
END:DAYLIGHT
BEGIN:STANDARD
TZOFFSETFROM:+0200
TZOFFSETTO:+0100
TZNAME:CET
DTSTART:20251026T010000
END:STANDARD
BEGIN:DAYLIGHT
TZOFFSETFROM:+0100
TZOFFSETTO:+0200
TZNAME:CEST
DTSTART:20260329T010000
END:DAYLIGHT
BEGIN:STANDARD
TZOFFSETFROM:+0200
TZOFFSETTO:+0100
TZNAME:CET
DTSTART:20261025T010000
END:STANDARD
END:VTIMEZONE
BEGIN:VEVENT
DTSTART;TZID=Europe/Berlin:20251009T090000
DTEND;TZID=Europe/Berlin:20251009T150000
DTSTAMP:20260422T023319
CREATED:20250912T192248Z
LAST-MODIFIED:20250912T192248Z
UID:29646-1760000400-1760022000@www.netzwerkzukunft.de
SUMMARY:Inside Tesla: Berufsorientierung erleben – Auftakt-Tour für Lehrkräfte
DESCRIPTION:Zum ersten Mal öffnet Tesla exklusiv für Lehrkräfte in Brandenburg die Tore. Erleben Sie die Verbindung von High-Tech-Produktion\, praxisnahen Berufsbildern und wertvollen Impulsen für Ihre schulische Berufsorientierung. Die Auftakt-Tour gibt Ihnen einen umfassenden Einblick in Ausbildungswege\, Zukunftsberufe und die Anforderungen einer modernen Arbeitswelt. \nInhalte\n\n\nExklusive Werksführung bei Tesla mit Fokus auf konkrete Berufsbilder \n\n\nKompakte Fach-Inputs zu Ausbildungsberufen und dualen Studiengängen \n\n\nImpulse zu technologischen Trends und Zukunftsberufen \n\n\nZeit für Fragen\, Austausch und Networking \n\n\nRahmenbedingungen\n\n\nDauer: 6 Stunden inkl. Pausen \n\n\nTeilnahme: max. 30 Lehrkräfte \n\n\nOrt: Tesla Manufacturing Brandenburg SE (Treffpunkt: Besuchereingang) \n\n\nKosten: kostenfrei \n\n\nAnsprechpartner: Paul Serr\, Tel. 0331 2011-679 \n\n\n👉 Die Berufsorientierungstourneen sind als Ergänzungsangebot zu einer staatlichen Lehrkräftefortbildung des Landes Brandenburg anerkannt.
URL:https://www.netzwerkzukunft.de/veranstaltung/inside-tesla-berufsorientierung-erleben-auftakt-tour-fuer-lehrkraefte/
LOCATION:Tesla Manufacturing Brandenburg SE\, Tesla Straße 1\, Grünheide\, 15537
CATEGORIES:Berufsorientierungstour
ATTACH;FMTTYPE=image/jpeg:https://www.netzwerkzukunft.de/wp-content/uploads/2025/09/content.jpg
ORGANIZER;CN="Netzwerk Zukunft. Schule und Wirtschaft f%C3%BCr Brandenburg e. V.":MAILTO:info@netzwerkzukunft.de
END:VEVENT
END:VCALENDAR