BEGIN:VCALENDAR
VERSION:2.0
PRODID:-//Netzwerk Zukunft - ECPv6.15.20//NONSGML v1.0//EN
CALSCALE:GREGORIAN
METHOD:PUBLISH
X-WR-CALNAME:Netzwerk Zukunft
X-ORIGINAL-URL:https://www.netzwerkzukunft.de
X-WR-CALDESC:Veranstaltungen für Netzwerk Zukunft
REFRESH-INTERVAL;VALUE=DURATION:PT1H
X-Robots-Tag:noindex
X-PUBLISHED-TTL:PT1H
BEGIN:VTIMEZONE
TZID:Europe/Berlin
BEGIN:DAYLIGHT
TZOFFSETFROM:+0100
TZOFFSETTO:+0200
TZNAME:CEST
DTSTART:20250330T010000
END:DAYLIGHT
BEGIN:STANDARD
TZOFFSETFROM:+0200
TZOFFSETTO:+0100
TZNAME:CET
DTSTART:20251026T010000
END:STANDARD
BEGIN:DAYLIGHT
TZOFFSETFROM:+0100
TZOFFSETTO:+0200
TZNAME:CEST
DTSTART:20260329T010000
END:DAYLIGHT
BEGIN:STANDARD
TZOFFSETFROM:+0200
TZOFFSETTO:+0100
TZNAME:CET
DTSTART:20261025T010000
END:STANDARD
BEGIN:DAYLIGHT
TZOFFSETFROM:+0100
TZOFFSETTO:+0200
TZNAME:CEST
DTSTART:20270328T010000
END:DAYLIGHT
BEGIN:STANDARD
TZOFFSETFROM:+0200
TZOFFSETTO:+0100
TZNAME:CET
DTSTART:20271031T010000
END:STANDARD
END:VTIMEZONE
BEGIN:VEVENT
DTSTART;TZID=Europe/Berlin:20260128T150000
DTEND;TZID=Europe/Berlin:20260128T160000
DTSTAMP:20260422T090554
CREATED:20260113T121801Z
LAST-MODIFIED:20260113T123412Z
UID:31465-1769612400-1769616000@www.netzwerkzukunft.de
SUMMARY:Online-Vortrag: Mehr als ein Rundgang: Wie Messebesuche echte Berufsorientierung schaffen
DESCRIPTION:Erfahren Sie\, wie strukturierte Vorbereitung\, klare Lernaufträge und einfache Reflexionsmethoden Messebesuche zu einem wirksamen Baustein Ihres BO-Curriculums machen. \nBerufsorientierungsmessen gehören an vielen Schulen fest zum BO-Kalender – doch oft bleibt ihr Potenzial ungenutzt. Ohne klare Vorbereitung laufen Schüler:innen planlos durch die Hallen\, Gespräche bleiben oberflächlich und nachhaltige Impulse fehlen. Dabei sind Messen wirksame Lernräume\, wenn sie sinnvoll in Unterricht und BO-Prozess eingebettet werden. \nIn diesem Online-Vortrag zeigen wir praxisnah\, wie Lehrkräfte Messebesuche strukturiert vorbereiten\, sinnvoll begleiten und wirksam nachbereiten können. Die Teilnehmenden erhalten konkrete Methoden\, leicht umsetzbare Praxisbeispiele und Anregungen\, wie Schüler:innen zu aktiven Gestalter:innen ihres Berufswahlprozesses werden. Gleichzeitig wird deutlich\, wie Schulen Messebesuche sichtbar und qualitätsgesichert im Sinne des Berufswahl-SIEGELs dokumentieren können. \nIhr Take-away\nMit wenigen klaren\, alltagstauglichen Methoden wird der Messebesuch vom Pflichttermin zum wertvollen Lernbaustein in der Berufsorientierung – gewinnbringend für Schüler:innen und wirksam dokumentierbar im Rahmen des Berufswahl-SIEGELs. \n\n\n\n\n\n\n\n\n\nDas erwartet Sie: \n\n\n\n\n\n\n\nKonkrete Methoden zur Vorbereitung\, Durchführung und Nachbereitung von Messebesuchen\nNiedrigschwellige\, praxistaugliche Beispiele für den direkten Einsatz im Unterricht\nWege\, wie Schüler:innen Verantwortung für ihren Berufswahlprozess übernehmen\nImpulse für die Verankerung von Messebesuchen als festen Baustein im BO-Curriculum\nMehrwert fürs Berufswahl-SIEGEL: systematische Nutzung\, gute Dokumentierbarkeit\, klare Qualitätsnachweise\n\n\n\n\n\n\n\n\n\n\n\n\n\n\n\n\nAnmeldung:\nMelden Sie sich über die SIEGEL-Akademie hier an.
URL:https://www.netzwerkzukunft.de/veranstaltung/online-vortrag-mehr-als-ein-rundgang-wie-messebesuche-echte-berufsorientierung-schaffen-jan2026/
LOCATION:online
CATEGORIES:Berufswahl-SIEGEL,Externe Veranstaltung
ATTACH;FMTTYPE=image/png:https://www.netzwerkzukunft.de/wp-content/uploads/2025/08/Unbenannt.png
END:VEVENT
END:VCALENDAR