BEGIN:VCALENDAR
VERSION:2.0
PRODID:-//Netzwerk Zukunft - ECPv6.15.20//NONSGML v1.0//EN
CALSCALE:GREGORIAN
METHOD:PUBLISH
X-WR-CALNAME:Netzwerk Zukunft
X-ORIGINAL-URL:https://www.netzwerkzukunft.de
X-WR-CALDESC:Veranstaltungen für Netzwerk Zukunft
REFRESH-INTERVAL;VALUE=DURATION:PT1H
X-Robots-Tag:noindex
X-PUBLISHED-TTL:PT1H
BEGIN:VTIMEZONE
TZID:Europe/Berlin
BEGIN:DAYLIGHT
TZOFFSETFROM:+0100
TZOFFSETTO:+0200
TZNAME:CEST
DTSTART:20240331T010000
END:DAYLIGHT
BEGIN:STANDARD
TZOFFSETFROM:+0200
TZOFFSETTO:+0100
TZNAME:CET
DTSTART:20241027T010000
END:STANDARD
BEGIN:DAYLIGHT
TZOFFSETFROM:+0100
TZOFFSETTO:+0200
TZNAME:CEST
DTSTART:20250330T010000
END:DAYLIGHT
BEGIN:STANDARD
TZOFFSETFROM:+0200
TZOFFSETTO:+0100
TZNAME:CET
DTSTART:20251026T010000
END:STANDARD
BEGIN:DAYLIGHT
TZOFFSETFROM:+0100
TZOFFSETTO:+0200
TZNAME:CEST
DTSTART:20260329T010000
END:DAYLIGHT
BEGIN:STANDARD
TZOFFSETFROM:+0200
TZOFFSETTO:+0100
TZNAME:CET
DTSTART:20261025T010000
END:STANDARD
END:VTIMEZONE
BEGIN:VEVENT
DTSTART;TZID=Europe/Berlin:20250410T090000
DTEND;TZID=Europe/Berlin:20250410T150000
DTSTAMP:20260424T155511
CREATED:20240709T073100Z
LAST-MODIFIED:20250408T125327Z
UID:21510-1744275600-1744297200@www.netzwerkzukunft.de
SUMMARY:Workshop "Praxislernen in Pflegeeinrichtungen"
DESCRIPTION:Welche Berufsbilder treffen wir in Pflegeeinrichtungen an? Welche Anforderungen stehen hinter dem Ausbildungsberuf „Pflegefachperson“? Und wie können fächerübergreifende Lernaufgaben für Ihre Schülerinnen und Schüler aussehen?  Antworten auf diese und vieles mehr erfahren Sie bei unserem Lehrkräfte–Workshop „Praxislernen in Pflegeeinrichtungen” im Gesundheitsspeicher der Sana Kliniken Niederlausitz. Während eines geführten Rundgangs erhalten Sie spannende Einblicke in den Krankenhausalltag. Gemeinsam mit den Experten/Expertinnen aus dem Berufsfeld „Pflege“ entwickeln Sie im Anschluss Lernaufgaben für den Unterricht und knüpfen zugleich wertvolle Kontakte zu regionalen Praxislernen-Orten. Hinweise zur Anmeldung Bitte beachten Sie\, dass es sich um eine regionale Veranstaltung zum Thema Praxislernen handelt\, für die Sie sich bis zum 4. April 2025 anmelden können. Haben Sie eine Einladung/Save-the-Date erhalten\, melden Sie sich bitte über die Registrierung “Eingeladen” an.Haben Sie keine Einladung erhalten\, melden Sie sich bitte über die Registrierung “Warteliste” an.Beachten Sie bitte das die Kapazität für diese Veranstaltung auf 20 Personen begrenzt ist und Teilnehmer/-innen mit Einladung/Save-the-Date Vorrang haben. Teilnehmer aus der Warteliste rücken bei freien Plätzen chronologisch nach. Sie haben Fragen? Rufen Sie uns an oder mailen Sie uns.Sollten Sie Fragen rund um die Anmeldung haben\, wenden Sie sich bitte an unsere Referentin für Praxislernen. Katharina Fehn | Referentin Praxislernen E-Mail: katharina.fehn@netzwerkzukunft.deTel: 0331 20118566Mobil: 0151 67827331
URL:https://www.netzwerkzukunft.de/veranstaltung/praxislernen-in-pflegeeinrichtungen/
LOCATION:Sana Klinken Niederlausitz\, Standort Senftenberg\, Krankenhausstraße 10\, Senftenberg\, Brandenburg\, 01968\, Deutschland
CATEGORIES:Praxislernen
ATTACH;FMTTYPE=image/jpeg:https://www.netzwerkzukunft.de/wp-content/uploads/2024/07/Tandemworkshop_Praxislernen_Sana-Kliniken.jpg
ORGANIZER;CN="Netzwerk Zukunft. Schule und Wirtschaft f%C3%BCr Brandenburg e. V.":MAILTO:info@netzwerkzukunft.de
END:VEVENT
END:VCALENDAR