BEGIN:VCALENDAR
VERSION:2.0
PRODID:-//Netzwerk Zukunft - ECPv6.15.20//NONSGML v1.0//EN
CALSCALE:GREGORIAN
METHOD:PUBLISH
X-WR-CALNAME:Netzwerk Zukunft
X-ORIGINAL-URL:https://www.netzwerkzukunft.de
X-WR-CALDESC:Veranstaltungen für Netzwerk Zukunft
REFRESH-INTERVAL;VALUE=DURATION:PT1H
X-Robots-Tag:noindex
X-PUBLISHED-TTL:PT1H
BEGIN:VTIMEZONE
TZID:Europe/Berlin
BEGIN:DAYLIGHT
TZOFFSETFROM:+0100
TZOFFSETTO:+0200
TZNAME:CEST
DTSTART:20230326T010000
END:DAYLIGHT
BEGIN:STANDARD
TZOFFSETFROM:+0200
TZOFFSETTO:+0100
TZNAME:CET
DTSTART:20231029T010000
END:STANDARD
BEGIN:DAYLIGHT
TZOFFSETFROM:+0100
TZOFFSETTO:+0200
TZNAME:CEST
DTSTART:20240331T010000
END:DAYLIGHT
BEGIN:STANDARD
TZOFFSETFROM:+0200
TZOFFSETTO:+0100
TZNAME:CET
DTSTART:20241027T010000
END:STANDARD
BEGIN:DAYLIGHT
TZOFFSETFROM:+0100
TZOFFSETTO:+0200
TZNAME:CEST
DTSTART:20250330T010000
END:DAYLIGHT
BEGIN:STANDARD
TZOFFSETFROM:+0200
TZOFFSETTO:+0100
TZNAME:CET
DTSTART:20251026T010000
END:STANDARD
END:VTIMEZONE
BEGIN:VEVENT
DTSTART;TZID=Europe/Berlin:20240321T090000
DTEND;TZID=Europe/Berlin:20240321T120000
DTSTAMP:20260424T193712
CREATED:20230721T112147Z
LAST-MODIFIED:20240314T003631Z
UID:11190-1711011600-1711022400@www.netzwerkzukunft.de
SUMMARY:Berufsorientierungstournee "Barnim-Ausbildende Region" 2023-2024 - Station 4
DESCRIPTION:Station 4: Hoffnungstaler Stiftung Lobetal\n\n\n\n  \n\n\n  \n\n\n\n\n \n\n\n\n\n\n\n\n  \nEinleitung\nDas wirtschaftliche Potential einer Region besteht vor allem aus den Menschen. Daher ist es wichtig\, jungen Leuten hier eine berufliche Perspektive zu bieten. Großen Anteil daran haben die ortsansässigen Unternehmen mit ihren Angeboten für Ausbildung und Studium. Durch unsere Berufsorientierungstournee (BOT) im Landkreis Barnim möchten wir erreichen\, dass Lehrer/-innen und Berufsberater/-innen einen detaillierten Einblick in verschiedene Berufsbilder erhalten und diese Informationen an die Schüler/-innen innerhalb von Unterricht oder Beratung weitergeben. So können wir zu einer passenden Berufswahl mit guten Chancen für einen erfolgreichen Abschluss beitragen. \nKooperationspartner\n \n \n  \n  \n  \nDie Bildungsinitiative Barnim und das Kompetenzzentrum Landwirtschaft und ländlicher Raum AGRARaktiv sind Kooperationspartner dieser Berufsorientierungstournee zu Ausbildungs- und Arbeitsmarktchancen im Barnim 2023/24. \nAnmeldung\nDie Teilnahme ist kostenlos. Alle Teilnehmenden erhalten pro Termin eine individuelle Teilnahmebescheinigung. Die Berufsorientierungstournee ist einer staatlichen Lehrkräftefortbildung gleichgestellt. \nBitte melden Sie sich unbedingt ab\, wenn Sie den Termin nicht wahrnehmen können. \nWenn die Station\, für die Sie sich interessieren\, ausgebucht ist\, schreiben Sie bitte eine Mail an andrea.zimmermann@netzwerkzukunft.de. Sie kommen dann auf die Warteliste. \nWeitere Stationen der Berufsorientierungstournee Barnim\n09.11.2023 Ahrensfelde: MÖLLER PRO MEDIA\, Werneuchen: Remondis  \n07.12.2023 Eberswalde: umetec GmbH Stahlbau\, Thimm Verpackungen GmbH & Co. KG \n18.01.2024 Haus Chorin\, Finanzamt Eberswalde \n24.05.2024 Eberswalde: Hochschule für Nachhaltige Entwicklung \n 
URL:https://www.netzwerkzukunft.de/veranstaltung/veranstaltung-zur-beruflichen-orientierung-station-4/
LOCATION:Lobetal
CATEGORIES:Berufsorientierungstour,Schulen,Unternehmen
ATTACH;FMTTYPE=image/jpeg:https://www.netzwerkzukunft.de/wp-content/uploads/2021/10/AdobeStock_362306286-scaled.jpeg
ORGANIZER;CN="Netzwerk Zukunft. Schule und Wirtschaft f%C3%BCr Brandenburg e. V.":MAILTO:info@netzwerkzukunft.de
END:VEVENT
END:VCALENDAR