BEGIN:VCALENDAR
VERSION:2.0
PRODID:-//Netzwerk Zukunft - ECPv6.15.20//NONSGML v1.0//EN
CALSCALE:GREGORIAN
METHOD:PUBLISH
X-WR-CALNAME:Netzwerk Zukunft
X-ORIGINAL-URL:https://www.netzwerkzukunft.de
X-WR-CALDESC:Veranstaltungen für Netzwerk Zukunft
REFRESH-INTERVAL;VALUE=DURATION:PT1H
X-Robots-Tag:noindex
X-PUBLISHED-TTL:PT1H
BEGIN:VTIMEZONE
TZID:Europe/Berlin
BEGIN:DAYLIGHT
TZOFFSETFROM:+0100
TZOFFSETTO:+0200
TZNAME:CEST
DTSTART:20240331T010000
END:DAYLIGHT
BEGIN:STANDARD
TZOFFSETFROM:+0200
TZOFFSETTO:+0100
TZNAME:CET
DTSTART:20241027T010000
END:STANDARD
BEGIN:DAYLIGHT
TZOFFSETFROM:+0100
TZOFFSETTO:+0200
TZNAME:CEST
DTSTART:20250330T010000
END:DAYLIGHT
BEGIN:STANDARD
TZOFFSETFROM:+0200
TZOFFSETTO:+0100
TZNAME:CET
DTSTART:20251026T010000
END:STANDARD
BEGIN:DAYLIGHT
TZOFFSETFROM:+0100
TZOFFSETTO:+0200
TZNAME:CEST
DTSTART:20260329T010000
END:DAYLIGHT
BEGIN:STANDARD
TZOFFSETFROM:+0200
TZOFFSETTO:+0100
TZNAME:CET
DTSTART:20261025T010000
END:STANDARD
END:VTIMEZONE
BEGIN:VEVENT
DTSTART;TZID=Europe/Berlin:20250612T140000
DTEND;TZID=Europe/Berlin:20250612T150000
DTSTAMP:20260422T104435
CREATED:20250528T125922Z
LAST-MODIFIED:20250528T201749Z
UID:27724-1749736800-1749740400@www.netzwerkzukunft.de
SUMMARY:Webinar: Zwischen Belastung und Entwicklung - Die Rolle von Vulnerabilität und Resilienz in der Beruflichen Orientierung
DESCRIPTION:In diesem Webinar greifen Femke Dumstrei und Antonia Baumann aus dem Team von Prof. Dr. Thorsten Bührmann (MSH Hamburg) ein Thema auf\, das viele Lehrkräfte und Berufsberatungsfachkräfte in der Beruflichen Orientierung bewegt: junge Menschen zwischen Belastung und Entwicklung. \nZiel des Webinars der SIEGEL-Akakdemie ist es\, das Bewusstsein für die herausfordernde Ausgangslage von Jugendlichen in der Berufsorientierung zu schärfen. Dabei werden die Begriffe Vulnerabilität und Resilienz erläutert und deren Einfluss auf die Entwicklung junger Menschen analysiert. Ein weiterer Schwerpunkt liegt auf den Unsicherheiten\, die während der Phasen der Beruflichen Orientierung auftreten\, sowie darauf\, wie Lehrkräfte und Berufsberatungsfachkräfte unterstützend wirken können. \nWir möchten Sie sensibilisieren und so zu einem besseren Verständnis für die Bedürfnisse und Herausforderungen vieler Jugendlicher beitragen\, sodass Sie Wege finden\, ihre Chancen in der Beruflichen Orientierung zu verbessern. \n\n\n\n\n\n\n\n\n\nDas erwartet Sie:\n\n\n\n\n\n\n\nVulnerabilität und Resilienz: Bedeutung für die Entwicklung und Berufliche Orientierung\nUnsicherheiten in der Beruflichen Orientierung: Phasen\, Herausforderungen und Unterstützung\nAustausch: Praxistaugliche Strategien im Umgang mit den Herausforderungen und Unterstützungsbedarfen Jugendlicher\n\nAnmeldung:\nMelden Sie sich über die SIEGEL-Akademie hier an.
URL:https://www.netzwerkzukunft.de/veranstaltung/webinar-zwischen-belastung-und-entwicklung-die-rolle-von-vulnerabilitaet-und-resilienz-in-der-beruflichen-orientierung/
LOCATION:digital
CATEGORIES:Berufswahl-SIEGEL,Externe Veranstaltung,Schulen
ATTACH;FMTTYPE=image/png:https://www.netzwerkzukunft.de/wp-content/uploads/2025/05/berufswahlsiegel-akademie-logo-560x330px.png
END:VEVENT
END:VCALENDAR