BEGIN:VCALENDAR
VERSION:2.0
PRODID:-//Netzwerk Zukunft - ECPv6.15.20//NONSGML v1.0//EN
CALSCALE:GREGORIAN
METHOD:PUBLISH
X-WR-CALNAME:Netzwerk Zukunft
X-ORIGINAL-URL:https://www.netzwerkzukunft.de
X-WR-CALDESC:Veranstaltungen für Netzwerk Zukunft
REFRESH-INTERVAL;VALUE=DURATION:PT1H
X-Robots-Tag:noindex
X-PUBLISHED-TTL:PT1H
BEGIN:VTIMEZONE
TZID:Europe/Berlin
BEGIN:DAYLIGHT
TZOFFSETFROM:+0100
TZOFFSETTO:+0200
TZNAME:CEST
DTSTART:20250330T010000
END:DAYLIGHT
BEGIN:STANDARD
TZOFFSETFROM:+0200
TZOFFSETTO:+0100
TZNAME:CET
DTSTART:20251026T010000
END:STANDARD
BEGIN:DAYLIGHT
TZOFFSETFROM:+0100
TZOFFSETTO:+0200
TZNAME:CEST
DTSTART:20260329T010000
END:DAYLIGHT
BEGIN:STANDARD
TZOFFSETFROM:+0200
TZOFFSETTO:+0100
TZNAME:CET
DTSTART:20261025T010000
END:STANDARD
BEGIN:DAYLIGHT
TZOFFSETFROM:+0100
TZOFFSETTO:+0200
TZNAME:CEST
DTSTART:20270328T010000
END:DAYLIGHT
BEGIN:STANDARD
TZOFFSETFROM:+0200
TZOFFSETTO:+0100
TZNAME:CET
DTSTART:20271031T010000
END:STANDARD
END:VTIMEZONE
BEGIN:VEVENT
DTSTART;TZID=Europe/Berlin:20260122T130000
DTEND;TZID=Europe/Berlin:20260122T160000
DTSTAMP:20260422T073311
CREATED:20251009T120529Z
LAST-MODIFIED:20251216T131118Z
UID:30257-1769086800-1769097600@www.netzwerkzukunft.de
SUMMARY:Webinar abgesagt - "Berufliche Orientierung trifft Fachunterricht: mit Systematik zum Erfolg"
DESCRIPTION:Dieses Webinar muss leider abgesagt werden. Wir informieren zeitnah über einen möglichen Ersatztermin. Eine erfolgreiche Berufliche Orientierung (BO) ist keine Einzelmaßnahme\, sondern ein fester Bestandteil des schulischen Lernens. In diesem Webinar erarbeiten Sie\, wie Sie BO-Aktivitäten gezielt mit Fachinhalten verknüpfen\, Synergien im Kollegium schaffen und die Berufliche Orientierung als systematische Querschnittsaufgabe an Ihrer Schule etablieren können. Sie erhalten praxisnahe Impulse\, um die Qualität Ihrer BO-Arbeit weiterzuentwickeln\, bestehende Angebote zu reflektieren und Erfolge sichtbar zu machen. Das erwartet SieEinführung in die Grundlagen systematischer Beruflicher Orientierung BO als Querschnittsaufgabe in der Schulentwicklung  Verknüpfung von BO-Aktivitäten mit Fachinhalten aller Lernbereiche Evaluation und Weiterentwicklung einer systematischen BO Austausch zu erfolgreichen Praxisbeispielen Für wen ist die Veranstaltung gedacht?Dieses Modul unserer Fortbildungsreihe ExBO richtet sich an Lehrkräfte und Schulleitungen weiterführender Schulen\, die Berufliche Orientierung gezielt im Unterricht und Schulprogramm verankern möchten. Besonders empfohlen für BO-Beauftragte\, Fachleitungen und Mitglieder von BO-Teams\, die auf der Suche nach klaren Strukturen und systematischen Ansätzen sind. Die Veranstaltung ist kostenfrei und als Ergänzungsangebot einer staatlichen Lehrkräftefortbildung anerkannt.
URL:https://www.netzwerkzukunft.de/veranstaltung/www-netzwerkzukunft-de-veranstaltungen-berufliche-orientierung-fachunterricht/
LOCATION:online
CATEGORIES:Akademie
ATTACH;FMTTYPE=image/jpeg:https://www.netzwerkzukunft.de/wp-content/uploads/2025/10/Akademie_Makerspace_NWZ_2025.jpeg
ORGANIZER;CN="Netzwerk Zukunft. Schule und Wirtschaft f%C3%BCr Brandenburg e. V.":MAILTO:info@netzwerkzukunft.de
END:VEVENT
END:VCALENDAR