BEGIN:VCALENDAR
VERSION:2.0
PRODID:-//Netzwerk Zukunft - ECPv6.15.20//NONSGML v1.0//EN
CALSCALE:GREGORIAN
METHOD:PUBLISH
X-ORIGINAL-URL:https://www.netzwerkzukunft.de
X-WR-CALDESC:Veranstaltungen für Netzwerk Zukunft
REFRESH-INTERVAL;VALUE=DURATION:PT1H
X-Robots-Tag:noindex
X-PUBLISHED-TTL:PT1H
BEGIN:VTIMEZONE
TZID:Europe/Berlin
BEGIN:DAYLIGHT
TZOFFSETFROM:+0100
TZOFFSETTO:+0200
TZNAME:CEST
DTSTART:20250330T010000
END:DAYLIGHT
BEGIN:STANDARD
TZOFFSETFROM:+0200
TZOFFSETTO:+0100
TZNAME:CET
DTSTART:20251026T010000
END:STANDARD
BEGIN:DAYLIGHT
TZOFFSETFROM:+0100
TZOFFSETTO:+0200
TZNAME:CEST
DTSTART:20260329T010000
END:DAYLIGHT
BEGIN:STANDARD
TZOFFSETFROM:+0200
TZOFFSETTO:+0100
TZNAME:CET
DTSTART:20261025T010000
END:STANDARD
BEGIN:DAYLIGHT
TZOFFSETFROM:+0100
TZOFFSETTO:+0200
TZNAME:CEST
DTSTART:20270328T010000
END:DAYLIGHT
BEGIN:STANDARD
TZOFFSETFROM:+0200
TZOFFSETTO:+0100
TZNAME:CET
DTSTART:20271031T010000
END:STANDARD
END:VTIMEZONE
BEGIN:VEVENT
DTSTART;TZID=Europe/Berlin:20260504T140000
DTEND;TZID=Europe/Berlin:20260504T160000
DTSTAMP:20260422T060713
CREATED:20260326T113029Z
LAST-MODIFIED:20260326T125903Z
UID:10000474-1777903200-1777910400@www.netzwerkzukunft.de
SUMMARY:Arbeitskreistreffen SCHULEWIRTSCHAFT Märkisch-Oderland
DESCRIPTION:Wir laden Sie herzlich zu unserem Arbeitskreistreffen für den Bereich Märkisch-Oderland ein. \nAgenda:\n\nVorstellung der Peter Joseph Lenné Oberschule als Good-Practice-Beispiel in der BO\nVorstellungs- inkl. Reflexionsrunde aller Anwesenden & SCHULEWIRTSCHAFT und Neues aus dem Bereich des Praxislernens\nVorstellung Good-Practice-Beispiel in der BO: Regionales Kooperations-Unternehmen\nVorstellung Good-Practice-Beispiel in der BO: “Zukunftsmesse Erkner” am Carl-Bechstein-Gymnasium Erkner\nAnkündigungen aus dem Netzwerk\nOptionaler Rundgang durch die Peter Joseph Lenné Oberschule Hoppegarten\n\nAnmeldung:\nBitte melden Sie sich bis zum 27. April 2026 zur Veranstaltung über die untenstehende Registrierungsfunktion an. \nBei Fragen zur Veranstaltung wenden Sie sich gern an Bodo Schacher unter der E-Mail-Adresse Bodo.Schacher@netzwerkzukunft.de \nWir freuen uns auf Ihre Teilnahme!
URL:https://www.netzwerkzukunft.de/veranstaltung/arbeitskreistreffen-schulewirtschaft-maerkisch-oderland/
LOCATION:Peter Joseph Lenné Oberschule mit Grundschulteil\, Von-Canstein-Straße 2\, Hoppegarten\, 15366\, Germany
CATEGORIES:Schulen,Unternehmen
ATTACH;FMTTYPE=image/jpeg:https://www.netzwerkzukunft.de/wp-content/uploads/2021/10/AdobeStock_362306286-scaled.jpeg
ORGANIZER;CN="Netzwerk Zukunft. Schule und Wirtschaft f%C3%BCr Brandenburg e. V.":MAILTO:info@netzwerkzukunft.de
END:VEVENT
BEGIN:VEVENT
DTSTART;TZID=Europe/Berlin:20260507T100000
DTEND;TZID=Europe/Berlin:20260507T160000
DTSTAMP:20260422T060713
CREATED:20260305T165318Z
LAST-MODIFIED:20260409T143807Z
UID:10000472-1778148000-1778169600@www.netzwerkzukunft.de
SUMMARY:Erfahrungsaustausch: Praxislernen gemeinsam weiterdenken
DESCRIPTION:Wir laden Schulleitungen\, Lehrkräfte sowie Ihre Schülerinnen und Schüler ein\, Erfahrungen zu teilen\, Ideen zu entwickeln und Praxislernen gemeinsam weiterzudenken.  \nPraxislernen gehört an vielen Schulen längst zum Alltag. Doch manchmal lohnt es sich\, kurz innezuhalten und zu fragen:  \nWo stehen wir heute und welche Chancen liegen vor uns? \nGenau dafür möchten wir Raum schaffen: für Austausch\, neue Perspektiven und gemeinsames Weiterdenken.  \nFreuen Sie sich auf einen Erfahrungsaustausch\, der anders wird\, als klassische Workshops:  offen\, beweglich und mit Raum für die Themen\, Fragen und Perspektiven der Teilnehmenden. Gemeinsam wollen wir Erfahrungen teilen\, neue Impulse sammeln und Praxislernen aus unterschiedlichen Blickwinkeln betrachten.  \nDurch den Erkundungsprozess leitet uns Saskia Wittmer-Gerber.   \nEin kurzer Input von Nora Hilbert von beWirken gibt neue Perspektiven – lassen Sie sich überraschen!  \nAktuell prüfen wir\, ob es vor Veranstaltungsbeginn eine kurze Gelegenheit geben kann\, Eindrücke aus dem Schulleben am Schulzentrum am Stern zu gewinnen (ca. 8.45–9.45 Uhr).  \nWenn Sie daran grundsätzlich Interesse hätten\, geben Sie dies bitte bei der Anmeldung an. Nach der Anmeldung informieren wir Sie\, ob und in welcher Form dieser Programmpunkt stattfinden kann.  \nDa unsere Veranstaltungen erfahrungsgemäß auf großes Interesse stoßen\, möchten wir möglichst vielen Schulen die Teilnahme ermöglichen. Deshalb laden wir jede Schule ein\, ein Tandem aus einer Lehrkraft und einer Schülerin bzw. einem Schüler anzumelden.  \nDie Teilnehmendenzahl ist begrenzt. Melden Sie sich daher gern frühzeitig an und sichern Sie sich einen Platz für Ihre Schule.  \nBringen Sie Ihre Perspektiven ein\, teilen Sie Ihre Erfahrungen und entdecken Sie gemeinsam mit anderen Schulen neue Möglichkeiten im Praxislernen.  \nDie Veranstaltung ist als Ergänzungsangebot zu einer staatlichen Lehrkräftefortbildung des Landes Brandenburg anerkannt.
URL:https://www.netzwerkzukunft.de/veranstaltung/erfahrungsaustausch-next-level-praxislernen/
LOCATION:Schulzentrum am Stern\, Gagarinstr. 5-7\, Potsdam\, 14480\, Germany
CATEGORIES:Praxislernen,Schulen
ATTACH;FMTTYPE=image/jpeg:https://www.netzwerkzukunft.de/wp-content/uploads/2026/03/SAVE-THE-DATE-EA-PXL-Mai-2026_Webbild.jpg
ORGANIZER;CN="Netzwerk Zukunft. Schule und Wirtschaft f%C3%BCr Brandenburg e. V.":MAILTO:info@netzwerkzukunft.de
END:VEVENT
BEGIN:VEVENT
DTSTART;TZID=Europe/Berlin:20260603T130000
DTEND;TZID=Europe/Berlin:20260603T163000
DTSTAMP:20260422T060713
CREATED:20260421T134238Z
LAST-MODIFIED:20260421T134823Z
UID:10000476-1780491600-1780504200@www.netzwerkzukunft.de
SUMMARY:Berufswahl-SIEGEL: Entwicklungswerkstatt Potsdam
DESCRIPTION:Das Berufswahl-SIEGEL ist bundesweit das Qualitäts-Siegel für hervorragende Berufliche Orientierung an Schulen – auch in Brandenburg. Als Mitglied im Netzwerk Berufswahl-SIEGEL ist das Netzwerk Zukunft in Brandenburg für die Auszeichnung zuständig\, die aktuell rund 90 Schulen tragen. \nGemeinsam mit engagierten Schulen werden wir in diesem Jahr den Auszeichnungsprozess weiterentwickeln. \nIm Rahmen von zwei Entwicklungswerkstätten\, jeweils eine in Potsdam und eine in Frankfurt (Oder)\, werden zwei grundlegende Elemente des Verfahrens überarbeitet:  \n\n das Auditverfahren\, das die Basis für die Vergabe des Berufswahl-SIEGELs bildet\, sowie\ndas Verfahren zur Rezertifizierung bereits ausgezeichneter Schulen. \n\n  \nZiel ist es\, beide Verfahren künftig noch praxisnäher\, transparenter und effizienter zu gestalten und gleichzeitig die hohen Qualitätsansprüche an eine hervorragende Berufliche Orientierung zu sichern.  \nEine Teilnahme an regionalen Entwicklungswerkstatt bietet Schulen dabei die Möglichkeit\,  \n\nIhre Erfahrungen aus der schulischen Praxis einzubringen\,\ndie Weiterentwicklung des Verfahrens aktiv mitzugestalten und \nsich mit anderen ausgezeichneten SIEGEL-Schulen auszutauschen. \n\n  \nDie Entwicklungswerkstätten werden gemeinsam mit der bundesweiten wissenschaftlichen Begleitung des Berufswahl-SIEGELs durchgeführt.   \nBitte beachten Sie: Die Teilnahme an den Entwicklungswerkstätten erfolgt ausschließlich auf Einladung.
URL:https://www.netzwerkzukunft.de/veranstaltung/berufswahl-siegel-entwicklungswerkstatt-potsdam/
LOCATION:Meistersaal der Handwerkskammer Potsdam\, Charlottenstraße 34-36\, Potsdam\, 14467\, Germany
CATEGORIES:Berufswahl-SIEGEL,Schulen,Unternehmen
ATTACH;FMTTYPE=image/png:https://www.netzwerkzukunft.de/wp-content/uploads/2026/04/BWS-Symbolbild-6.png
ORGANIZER;CN="Netzwerk Zukunft. Schule und Wirtschaft f%C3%BCr Brandenburg e. V.":MAILTO:info@netzwerkzukunft.de
END:VEVENT
BEGIN:VEVENT
DTSTART;TZID=Europe/Berlin:20260604T090000
DTEND;TZID=Europe/Berlin:20260604T123000
DTSTAMP:20260422T060713
CREATED:20260421T135258Z
LAST-MODIFIED:20260421T135258Z
UID:10000477-1780563600-1780576200@www.netzwerkzukunft.de
SUMMARY:Berufswahl-SIEGEL: Entwicklungswerkstatt Frankfurt (Oder)
DESCRIPTION:Das Berufswahl-SIEGEL ist bundesweit das Qualitäts-Siegel für hervorragende Berufliche Orientierung an Schulen – auch in Brandenburg. Als Mitglied im Netzwerk Berufswahl-SIEGEL ist das Netzwerk Zukunft in Brandenburg für die Auszeichnung zuständig\, die aktuell rund 90 Schulen tragen. \nGemeinsam mit engagierten Schulen werden wir in diesem Jahr den Auszeichnungsprozess weiterentwickeln. \nIm Rahmen von zwei Entwicklungswerkstätten\, jeweils eine in Potsdam und eine in Frankfurt (Oder)\, werden zwei grundlegende Elemente des Verfahrens überarbeitet: \n\ndas Auditverfahren\, das die Basis für die Vergabe des Berufswahl-SIEGELs bildet\, sowie\ndas Verfahren zur Rezertifizierung bereits ausgezeichneter Schulen.\n\n  \nZiel ist es\, beide Verfahren künftig noch praxisnäher\, transparenter und effizienter zu gestalten und gleichzeitig die hohen Qualitätsansprüche an eine hervorragende Berufliche Orientierung zu sichern. \nEine Teilnahme an regionalen Entwicklungswerkstatt bietet Schulen dabei die Möglichkeit\, \n\nIhre Erfahrungen aus der schulischen Praxis einzubringen\,\ndie Weiterentwicklung des Verfahrens aktiv mitzugestalten und\nsich mit anderen ausgezeichneten SIEGEL-Schulen auszutauschen.\n\n  \nDie Entwicklungswerkstätten werden gemeinsam mit der bundesweiten wissenschaftlichen Begleitung des Berufswahl-SIEGELs durchgeführt. \nBitte beachten Sie: Die Teilnahme an den Entwicklungswerkstätten erfolgt ausschließlich auf Einladung.
URL:https://www.netzwerkzukunft.de/veranstaltung/berufswahl-siegel-entwicklungswerkstatt-frankfurt-oder/
LOCATION:Handwerkskammer Frankfurt (Oder)\, Spiekerstraße 11\, Frankfurt (Oder)\, 15230
CATEGORIES:Berufswahl-SIEGEL,Schulen,Unternehmen
ATTACH;FMTTYPE=image/png:https://www.netzwerkzukunft.de/wp-content/uploads/2026/04/BWS-Symbolbild-6.png
ORGANIZER;CN="Netzwerk Zukunft. Schule und Wirtschaft f%C3%BCr Brandenburg e. V.":MAILTO:info@netzwerkzukunft.de
END:VEVENT
END:VCALENDAR